BEGIN:VCALENDAR
VERSION:2.0
PRODID:-//SVP Bezirk Lenzburg //NONSGML Events //EN
CALSCALE:GREGORIAN
X-WR-CALNAME:SVP Bezirk Lenzburg
BEGIN:VEVENT
CREATED:20230918T041457Z
UID:1341
DTEND:20231214T200000
DTSTART:20231214T190000
DTSTAMP:20260420T162735Z
LOCATION:
DESCRIPTION:
SUMMARY:Kantonalvorstand
ORGANIZER:
URL;VALUE=URI:https://www.svp-bezirk-lenzburg.ch/termine/kantonalvorstand/
TRANSP:OPAQUE
END:VEVENT
END:VCALENDAR
