BEGIN:VCALENDAR
VERSION:2.0
PRODID:-//SVP Bezirk Lenzburg //NONSGML Events //EN
CALSCALE:GREGORIAN
X-WR-CALNAME:SVP Bezirk Lenzburg
BEGIN:VEVENT
CREATED:20240220T074512Z
UID:1379
DTEND:20240530T200000
DTSTART:20240530T190000
DTSTAMP:20260422T105152Z
LOCATION:Mehrzweckhalle in Meisterschwanden
DESCRIPTION:Lassen Sie sich das Referat von Markus Somm nicht entgehen! Die Verans
SUMMARY:Markus Somm &#8211\; Mehrzweckhalle Meisterschwanden
ORGANIZER:
URL;VALUE=URI:https://www.svp-bezirk-lenzburg.ch/termine/markus-somm-mehrzweckhalle-meisterschwanden/
TRANSP:OPAQUE
END:VEVENT
END:VCALENDAR
