BEGIN:VCALENDAR
VERSION:2.0
PRODID:-//SVP Bezirk Lenzburg //NONSGML Events //EN
CALSCALE:GREGORIAN
X-WR-CALNAME:SVP Bezirk Lenzburg
BEGIN:VEVENT
CREATED:20241118T152546Z
UID:1465
DTEND:20250624T200000
DTSTART:20250624T193000
DTSTAMP:20260422T084836Z
LOCATION:
DESCRIPTION:Rückblick auf die Sommer-Session.
SUMMARY:Politapéro/Sessionsrückblick
ORGANIZER:
URL;VALUE=URI:https://www.svp-bezirk-lenzburg.ch/termine/politapero-sessionsrueckblick-7/
TRANSP:OPAQUE
END:VEVENT
END:VCALENDAR
