BEGIN:VCALENDAR
VERSION:2.0
PRODID:-//SVP Bezirk Lenzburg //NONSGML Events //EN
CALSCALE:GREGORIAN
X-WR-CALNAME:SVP Bezirk Lenzburg
BEGIN:VEVENT
CREATED:20241216T084444Z
UID:1483
DTEND:20250917T200000
DTSTART:20250917T190000
DTSTAMP:20260422T090117Z
LOCATION:Bistro Bleiche\, Zofingen
DESCRIPTION:Alle sind herzlich eingeladen zum Grossrats-Rückblick.
SUMMARY:SVP Bezirk Zofingen: Grossrats-Rückblick
ORGANIZER:
URL;VALUE=URI:https://www.svp-bezirk-lenzburg.ch/termine/svp-bezirk-zofingen-grossrats-rueckblick/
TRANSP:OPAQUE
END:VEVENT
END:VCALENDAR
