BEGIN:VCALENDAR
VERSION:2.0
PRODID:-//SVP Bezirk Lenzburg //NONSGML Events //EN
CALSCALE:GREGORIAN
X-WR-CALNAME:SVP Bezirk Lenzburg
BEGIN:VEVENT
CREATED:20250103T094036Z
UID:1485
DTEND:20250116T200000
DTSTART:20250116T190000
DTSTAMP:20260422T084836Z
LOCATION:Kulturhaus Rain Kleindöttingen
DESCRIPTION:Die Bezirkspartei lädt Sie zu ihrem traditionellen Auftakt ein. Diese
SUMMARY:Marcel Dettling bei der SVP Bezirk Zurzach
ORGANIZER:
URL;VALUE=URI:https://www.svp-bezirk-lenzburg.ch/termine/marcel-dettling-bei-der-svp-bezirk-zurzach/
TRANSP:OPAQUE
END:VEVENT
END:VCALENDAR
